BEGIN:VCALENDAR
VERSION:2.0
PRODID:-//Plone.org//NONSGML plone.app.event//EN
X-WR-TIMEZONE:America/Recife
BEGIN:VEVENT
SUMMARY:Audiência Pública sobre o tema "Políticas Públicas do Empreend
 edorismo no Recife"
DTSTART;TZID=America/Recife;VALUE=DATE-TIME:20221117T090000
DTEND;TZID=America/Recife;VALUE=DATE-TIME:20221117T120000
DTSTAMP;VALUE=DATE-TIME:20260422T074640Z
UID:ab622cf1fac7476184ae08a32702c07d@www.recife.pe.leg.br
CREATED;VALUE=DATE-TIME:20221101T122627Z
DESCRIPTION:Requerimento N° 11.336/2022\, de autoria do Vereador Zé Neto
 .
LAST-MODIFIED;VALUE=DATE-TIME:20221101T122702Z
LOCATION:Plenarinho da Câmara Municipal do Recife
URL:https://www.recife.pe.leg.br/institucional/eventos/audiencia-publica-s
 obre-o-tema-politicas-publicas-do-empreendedorismo-no-recife
END:VEVENT
BEGIN:VTIMEZONE
TZID:America/Recife
X-LIC-LOCATION:America/Recife
BEGIN:STANDARD
DTSTART;VALUE=DATE-TIME:20020216T230000
TZNAME:-03
TZOFFSETFROM:-0200
TZOFFSETTO:-0300
END:STANDARD
END:VTIMEZONE
END:VCALENDAR
