BEGIN:VCALENDAR
VERSION:2.0
PRODID:-//Plone.org//NONSGML plone.app.event//EN
X-WR-TIMEZONE:America/Recife
BEGIN:VEVENT
SUMMARY:Audiência  Pública - Tema: " Implementação do Piso Salarial Na
 cional de Profissionais de Enfermagem."
DTSTART;TZID=America/Recife;VALUE=DATE-TIME:20220831T100000
DTEND;TZID=America/Recife;VALUE=DATE-TIME:20220831T110000
DTSTAMP;VALUE=DATE-TIME:20260423T114206Z
UID:c2caa03e1a454e36a4358171f3c40ae4@www.recife.pe.leg.br
CREATED;VALUE=DATE-TIME:20220831T132013Z
DESCRIPTION:Requerimento Nr. 9826/2022\, de autoria do Vereador Tadeu Calh
 eiros.
LAST-MODIFIED;VALUE=DATE-TIME:20220831T132153Z
LOCATION:Plenário da Câmara do Recife
URL:https://www.recife.pe.leg.br/institucional/eventos/audiencia-publica-t
 ema-implementacao-do-piso-salarial-nacional-de-profissionais-de-enfermagem
 -1
END:VEVENT
BEGIN:VTIMEZONE
TZID:America/Recife
X-LIC-LOCATION:America/Recife
BEGIN:STANDARD
DTSTART;VALUE=DATE-TIME:20020216T230000
TZNAME:-03
TZOFFSETFROM:-0200
TZOFFSETTO:-0300
END:STANDARD
END:VTIMEZONE
END:VCALENDAR
