BEGIN:VCALENDAR
VERSION:2.0
PRODID:-//Plone.org//NONSGML plone.app.event//EN
X-WR-TIMEZONE:America/Recife
BEGIN:VEVENT
SUMMARY:Reunião da Comissão de Defesa dos Direitos da Mulher
DTSTART;TZID=America/Recife;VALUE=DATE-TIME:20221108T140000
DTEND;TZID=America/Recife;VALUE=DATE-TIME:20221108T150000
DTSTAMP;VALUE=DATE-TIME:20260422T045527Z
UID:ca769acaad4e4bc9bafbf6a33361ae34@www.recife.pe.leg.br
CREATED;VALUE=DATE-TIME:20221103T150011Z
DESCRIPTION:Processo Administrativo N° 483/2022\, de autoria da Vereadora
  Cida Pedrosa.
LAST-MODIFIED;VALUE=DATE-TIME:20221103T150023Z
LOCATION:Sala das Comissões da Câmara Municipal do Recife
URL:https://www.recife.pe.leg.br/institucional/eventos/reuniao-da-comissao
 -de-defesa-dos-direitos-da-mulher-51
END:VEVENT
BEGIN:VTIMEZONE
TZID:America/Recife
X-LIC-LOCATION:America/Recife
BEGIN:STANDARD
DTSTART;VALUE=DATE-TIME:20020216T230000
TZNAME:-03
TZOFFSETFROM:-0200
TZOFFSETTO:-0300
END:STANDARD
END:VTIMEZONE
END:VCALENDAR
