BEGIN:VCALENDAR
VERSION:2.0
PRODID:-//Plone.org//NONSGML plone.app.event//EN
X-WR-TIMEZONE:America/Recife
BEGIN:VEVENT
SUMMARY:Reunião da Comissão de Finanças e Orçamento
DTSTART;TZID=America/Recife;VALUE=DATE-TIME:20221110T100000
DTEND;TZID=America/Recife;VALUE=DATE-TIME:20221110T110000
DTSTAMP;VALUE=DATE-TIME:20260422T045447Z
UID:421c894c435c4e0cb0b01e957cd76e3e@www.recife.pe.leg.br
CREATED;VALUE=DATE-TIME:20221103T145152Z
DESCRIPTION:Processo Administrativo N° 556/2022\, de autoria do Vereador 
 Samuel Salazar.
LAST-MODIFIED;VALUE=DATE-TIME:20221109T142226Z
LOCATION:Sala das Comissões da Câmara Municipal do Recife
URL:https://www.recife.pe.leg.br/institucional/eventos/reuniao-da-comissao
 -de-financas-e-orcamento-90
END:VEVENT
BEGIN:VTIMEZONE
TZID:America/Recife
X-LIC-LOCATION:America/Recife
BEGIN:STANDARD
DTSTART;VALUE=DATE-TIME:20020216T230000
TZNAME:-03
TZOFFSETFROM:-0200
TZOFFSETTO:-0300
END:STANDARD
END:VTIMEZONE
END:VCALENDAR
