BEGIN:VCALENDAR
VERSION:2.0
PRODID:-//Plone.org//NONSGML plone.app.event//EN
X-WR-TIMEZONE:America/Recife
BEGIN:VEVENT
SUMMARY:Reunião da Comissão de Finanças e Orçamento
DTSTART;TZID=America/Recife;VALUE=DATE-TIME:20221123T143000
DTEND;TZID=America/Recife;VALUE=DATE-TIME:20221123T153000
DTSTAMP;VALUE=DATE-TIME:20260422T045447Z
UID:382d2b83cb844840bc567777adb0dc83@www.recife.pe.leg.br
CREATED;VALUE=DATE-TIME:20221103T145317Z
DESCRIPTION:Processo Administrativo N° 453/2022\, de autoria do Vereador 
 Samuel Salazar.
LAST-MODIFIED;VALUE=DATE-TIME:20221103T145328Z
LOCATION:Sala das Comissões da Câmara Municipal do Recife
URL:https://www.recife.pe.leg.br/institucional/eventos/reuniao-da-comissao
 -de-financas-e-orcamento-92
END:VEVENT
BEGIN:VTIMEZONE
TZID:America/Recife
X-LIC-LOCATION:America/Recife
BEGIN:STANDARD
DTSTART;VALUE=DATE-TIME:20020216T230000
TZNAME:-03
TZOFFSETFROM:-0200
TZOFFSETTO:-0300
END:STANDARD
END:VTIMEZONE
END:VCALENDAR
