BEGIN:VCALENDAR
VERSION:2.0
PRODID:-//Plone.org//NONSGML plone.app.event//EN
X-WR-TIMEZONE:America/Recife
BEGIN:VEVENT
SUMMARY:Reunião da Comissão de Planejamento Urbano e Obras.
DTSTART;TZID=America/Recife;VALUE=DATE-TIME:20220908T170000
DTEND;TZID=America/Recife;VALUE=DATE-TIME:20220908T180000
DTSTAMP;VALUE=DATE-TIME:20260421T085303Z
UID:3d9614899906458383be73235821a5d0@www.recife.pe.leg.br
CREATED;VALUE=DATE-TIME:20220908T192837Z
DESCRIPTION:Presidida pelo Vereador Zé Neto.
LAST-MODIFIED;VALUE=DATE-TIME:20220908T192905Z
LOCATION:Sala das Comissões  da Câmara  do Recife
URL:https://www.recife.pe.leg.br/institucional/eventos/reuniao-da-comissao
 -de-planejamento-urbano-e-obras-33
END:VEVENT
BEGIN:VTIMEZONE
TZID:America/Recife
X-LIC-LOCATION:America/Recife
BEGIN:STANDARD
DTSTART;VALUE=DATE-TIME:20020216T230000
TZNAME:-03
TZOFFSETFROM:-0200
TZOFFSETTO:-0300
END:STANDARD
END:VTIMEZONE
END:VCALENDAR
