BEGIN:VCALENDAR
VERSION:2.0
PRODID:-//Plone.org//NONSGML plone.app.event//EN
X-WR-TIMEZONE:America/Recife
BEGIN:VEVENT
SUMMARY:Reunião da Comissão de Políticas Públicas da Juventude
DTSTART;TZID=America/Recife;VALUE=DATE-TIME:20221214T100000
DTEND;TZID=America/Recife;VALUE=DATE-TIME:20221214T110000
DTSTAMP;VALUE=DATE-TIME:20260421T060837Z
UID:d4efc367fe624351a40d60abdc13bdc8@www.recife.pe.leg.br
CREATED;VALUE=DATE-TIME:20221130T195929Z
DESCRIPTION:Processo Administrativo N° 842/2022\, de autoria do Vereador 
 Felipe Alecrim.
LAST-MODIFIED;VALUE=DATE-TIME:20221130T195947Z
LOCATION:Sala das Comissões da Câmara Municipal do Recife
URL:https://www.recife.pe.leg.br/institucional/eventos/reuniao-da-comissao
 -de-politicas-publicas-da-juventude-5
END:VEVENT
BEGIN:VTIMEZONE
TZID:America/Recife
X-LIC-LOCATION:America/Recife
BEGIN:STANDARD
DTSTART;VALUE=DATE-TIME:20020216T230000
TZNAME:-03
TZOFFSETFROM:-0200
TZOFFSETTO:-0300
END:STANDARD
END:VTIMEZONE
END:VCALENDAR
