BEGIN:VCALENDAR
VERSION:2.0
PRODID:-//Plone.org//NONSGML plone.app.event//EN
X-WR-TIMEZONE:America/Recife
BEGIN:VEVENT
SUMMARY:Reunião  da Comissão  de  Saúde
DTSTART;TZID=America/Recife;VALUE=DATE-TIME:20220905T140000
DTEND;TZID=America/Recife;VALUE=DATE-TIME:20220905T150000
DTSTAMP;VALUE=DATE-TIME:20260421T101521Z
UID:f56771ad5b664ac399660086b32bc9f4@www.recife.pe.leg.br
CREATED;VALUE=DATE-TIME:20220912T134027Z
DESCRIPTION:MEMO Nr.  16/2022\, presidida pela Vereadora Natália de Menud
 o.
LAST-MODIFIED;VALUE=DATE-TIME:20220912T134037Z
LOCATION:Sala das Comissões  da Câmara  do Recife
URL:https://www.recife.pe.leg.br/institucional/eventos/reuniao-da-comissao
 -de-saude-62
END:VEVENT
BEGIN:VTIMEZONE
TZID:America/Recife
X-LIC-LOCATION:America/Recife
BEGIN:STANDARD
DTSTART;VALUE=DATE-TIME:20020216T230000
TZNAME:-03
TZOFFSETFROM:-0200
TZOFFSETTO:-0300
END:STANDARD
END:VTIMEZONE
END:VCALENDAR
