BEGIN:VCALENDAR
VERSION:2.0
PRODID:-//Plone.org//NONSGML plone.app.event//EN
X-WR-TIMEZONE:America/Recife
BEGIN:VEVENT
SUMMARY:Reunião da Comissão Especial sobre a Retomada do Carnaval\, São
  João e demais Grandes Eventos do Recife
DTSTART;TZID=America/Recife;VALUE=DATE-TIME:20211207T150000
DTEND;TZID=America/Recife;VALUE=DATE-TIME:20211207T170000
DTSTAMP;VALUE=DATE-TIME:20260422T074640Z
UID:b3f9e7b0cb354481b2922f98a6628e96@www.recife.pe.leg.br
CREATED;VALUE=DATE-TIME:20211201T003359Z
DESCRIPTION:MEMO Nº073/20\, presidida pelo Vereador Marco Aurélio Filho
LAST-MODIFIED;VALUE=DATE-TIME:20211201T003456Z
LOCATION:Plenarinho da Câmara do Recife
URL:https://www.recife.pe.leg.br/institucional/eventos/reuniao-da-comissao
 -especial-sobre-a-retomada-do-carnaval-sao-joao-e-demais-grandes-eventos-d
 o-recife
END:VEVENT
BEGIN:VTIMEZONE
TZID:America/Recife
X-LIC-LOCATION:America/Recife
BEGIN:STANDARD
DTSTART;VALUE=DATE-TIME:20020216T230000
TZNAME:-03
TZOFFSETFROM:-0200
TZOFFSETTO:-0300
END:STANDARD
END:VTIMEZONE
END:VCALENDAR
