BEGIN:VCALENDAR
VERSION:2.0
PRODID:-//Plone.org//NONSGML plone.app.event//EN
X-WR-TIMEZONE:America/Recife
BEGIN:VEVENT
SUMMARY:Reunião Extraordinária da Comissão de Acessibilidade e Mobilida
 de Urbana
DTSTART;TZID=America/Recife;VALUE=DATE-TIME:20221129T150000
DTEND;TZID=America/Recife;VALUE=DATE-TIME:20221129T160000
DTSTAMP;VALUE=DATE-TIME:20260421T130151Z
UID:5664b5b14d7f4d3b9e8888577bf1fd48@www.recife.pe.leg.br
CREATED;VALUE=DATE-TIME:20221125T125705Z
DESCRIPTION:Processo Administrativo N° 792/2022\, de autoria do Vereador 
 Fabiano Ferraz.
LAST-MODIFIED;VALUE=DATE-TIME:20221125T125739Z
LOCATION:Sala das Comissões da Câmara Municipal do Recife
URL:https://www.recife.pe.leg.br/institucional/eventos/reuniao-extraordina
 ria-da-comissao-de-acessibilidade-e-mobilidade-urbana
END:VEVENT
BEGIN:VTIMEZONE
TZID:America/Recife
X-LIC-LOCATION:America/Recife
BEGIN:STANDARD
DTSTART;VALUE=DATE-TIME:20020216T230000
TZNAME:-03
TZOFFSETFROM:-0200
TZOFFSETTO:-0300
END:STANDARD
END:VTIMEZONE
END:VCALENDAR
