BEGIN:VCALENDAR
VERSION:2.0
PRODID:-//Plone.org//NONSGML plone.app.event//EN
X-WR-TIMEZONE:America/Recife
BEGIN:VEVENT
SUMMARY:Reunião Ordinária da Comissão de Finanças e Orçamento
DTSTART;TZID=America/Recife;VALUE=DATE-TIME:20220909T100000
DTEND;TZID=America/Recife;VALUE=DATE-TIME:20220909T110000
DTSTAMP;VALUE=DATE-TIME:20260421T085303Z
UID:f787939c42ed46668f9a5eeb620a6ab8@www.recife.pe.leg.br
CREATED;VALUE=DATE-TIME:20220908T212405Z
DESCRIPTION:Presidida pelo Vereador Samuel Salazar.
LAST-MODIFIED;VALUE=DATE-TIME:20220908T212420Z
LOCATION:Sala das Comissões  da Câmara  do Recife
URL:https://www.recife.pe.leg.br/institucional/eventos/reuniao-ordinaria-d
 a-comissao-de-financas-e-orcamento-35
END:VEVENT
BEGIN:VTIMEZONE
TZID:America/Recife
X-LIC-LOCATION:America/Recife
BEGIN:STANDARD
DTSTART;VALUE=DATE-TIME:20020216T230000
TZNAME:-03
TZOFFSETFROM:-0200
TZOFFSETTO:-0300
END:STANDARD
END:VTIMEZONE
END:VCALENDAR
