BEGIN:VCALENDAR
VERSION:2.0
PRODID:-//Plone.org//NONSGML plone.app.event//EN
X-WR-TIMEZONE:America/Recife
BEGIN:VEVENT
SUMMARY:Reunião Pública sobre o Dia Nacional de Luta da Pessoa com Defic
 iência: Crianças e Adolescentes com Deficiência nas Políticas Municipa
 is
DTSTART;TZID=America/Recife;VALUE=DATE-TIME:20220921T140000
DTEND;TZID=America/Recife;VALUE=DATE-TIME:20220921T150000
DTSTAMP;VALUE=DATE-TIME:20260421T153621Z
UID:bab19f4d16ef4841973205bb0f9a222c@www.recife.pe.leg.br
CREATED;VALUE=DATE-TIME:20220919T142029Z
DESCRIPTION:Requerimento N° 10.294/2022\, de autoria do Vereador Ivan Mor
 aes.
LAST-MODIFIED;VALUE=DATE-TIME:20220919T142312Z
LOCATION:Plenarinho da Câmara Municipal do Recife
URL:https://www.recife.pe.leg.br/institucional/eventos/reuniao-publica-sob
 re-o-dia-nacional-de-luta-da-pessoa-com-deficiencia-criancas-e-adolescente
 s-com-deficiencia-nas-politicas-municipais
END:VEVENT
BEGIN:VTIMEZONE
TZID:America/Recife
X-LIC-LOCATION:America/Recife
BEGIN:STANDARD
DTSTART;VALUE=DATE-TIME:20020216T230000
TZNAME:-03
TZOFFSETFROM:-0200
TZOFFSETTO:-0300
END:STANDARD
END:VTIMEZONE
END:VCALENDAR
