BEGIN:VCALENDAR
VERSION:2.0
PRODID:-//Plone.org//NONSGML plone.app.event//EN
X-WR-TIMEZONE:America/Recife
BEGIN:VEVENT
SUMMARY:Reunião Pública sobre o enfrentamento ao racismo e a promoção 
 da igualdade racial
DTSTART;TZID=America/Recife;VALUE=DATE-TIME:20221122T150000
DTEND;TZID=America/Recife;VALUE=DATE-TIME:20221122T170000
DTSTAMP;VALUE=DATE-TIME:20260422T045915Z
UID:75825f88fff24d2193839127aeb85304@www.recife.pe.leg.br
CREATED;VALUE=DATE-TIME:20221103T151355Z
DESCRIPTION:Requerimento N° 11.394/2022\, de autoria da Vereadora Cida Pe
 drosa.
LAST-MODIFIED;VALUE=DATE-TIME:20221103T151423Z
LOCATION:Plenarinho da Câmara Municipal do Recife
URL:https://www.recife.pe.leg.br/institucional/eventos/reuniao-publica-sob
 re-o-enfrentamento-ao-racismo-e-a-promocao-da-igualdade-racial
END:VEVENT
BEGIN:VTIMEZONE
TZID:America/Recife
X-LIC-LOCATION:America/Recife
BEGIN:STANDARD
DTSTART;VALUE=DATE-TIME:20020216T230000
TZNAME:-03
TZOFFSETFROM:-0200
TZOFFSETTO:-0300
END:STANDARD
END:VTIMEZONE
END:VCALENDAR
