BEGIN:VCALENDAR
VERSION:2.0
PRODID:-//Plone.org//NONSGML plone.app.event//EN
X-WR-TIMEZONE:America/Recife
BEGIN:VEVENT
SUMMARY:Reunião  Pública-Tema: "A Comunidade Monte Verde e as consequên
 cias  da chuva."
DTSTART;TZID=America/Recife;VALUE=DATE-TIME:20220908T100000
DTEND;TZID=America/Recife;VALUE=DATE-TIME:20220908T110000
DTSTAMP;VALUE=DATE-TIME:20260424T021108Z
UID:0de84f7f092f493a9971af296f4334f5@www.recife.pe.leg.br
CREATED;VALUE=DATE-TIME:20220831T131419Z
DESCRIPTION:Requerimento Nr. 10122/2022\, presidida pela Vereadora Michele
  Collins.
LAST-MODIFIED;VALUE=DATE-TIME:20220906T213903Z
LOCATION:Plenarinho da Câmara  do Recife
URL:https://www.recife.pe.leg.br/institucional/eventos/reuniao-publica-tem
 a-a-comunidade-monte-verde-e-as-consequencias-da-chuva
END:VEVENT
BEGIN:VTIMEZONE
TZID:America/Recife
X-LIC-LOCATION:America/Recife
BEGIN:STANDARD
DTSTART;VALUE=DATE-TIME:20020216T230000
TZNAME:-03
TZOFFSETFROM:-0200
TZOFFSETTO:-0300
END:STANDARD
END:VTIMEZONE
END:VCALENDAR
