BEGIN:VCALENDAR
VERSION:2.0
PRODID:-//Plone.org//NONSGML plone.app.event//EN
X-WR-TIMEZONE:America/Recife
BEGIN:VEVENT
SUMMARY:Reunião Solene de entrega da Medalha de Mérito José Mariano ao 
 Senhor José Fernando Alves Zacarias
DTSTART;TZID=America/Recife;VALUE=DATE-TIME:20220930T100000
DTEND;TZID=America/Recife;VALUE=DATE-TIME:20220930T130000
DTSTAMP;VALUE=DATE-TIME:20260422T203424Z
UID:50620d7aacf84d5e835b5eb21603c05e@www.recife.pe.leg.br
CREATED;VALUE=DATE-TIME:20220905T184445Z
DESCRIPTION:Decreto Legislativo N° 1.016/2022\, de autoria do Vereador Z
 é Neto.
LAST-MODIFIED;VALUE=DATE-TIME:20220905T184449Z
LOCATION:Plenário da Câmara Municipal do Recife
URL:https://www.recife.pe.leg.br/institucional/eventos/reuniao-solene-de-e
 ntrega-da-medalha-de-merito-jose-mariano-ao-senhor-jose-fernando-alves-zac
 arias
END:VEVENT
BEGIN:VTIMEZONE
TZID:America/Recife
X-LIC-LOCATION:America/Recife
BEGIN:STANDARD
DTSTART;VALUE=DATE-TIME:20020216T230000
TZNAME:-03
TZOFFSETFROM:-0200
TZOFFSETTO:-0300
END:STANDARD
END:VTIMEZONE
END:VCALENDAR
