BEGIN:VCALENDAR
VERSION:2.0
PRODID:-//Plone.org//NONSGML plone.app.event//EN
X-WR-TIMEZONE:America/Recife
BEGIN:VEVENT
SUMMARY:Reunião Solene de entrega do Título de Cidadão do Recife ao Sen
 hor José Renato Accioly
DTSTART;TZID=America/Recife;VALUE=DATE-TIME:20221215T140000
DTEND;TZID=America/Recife;VALUE=DATE-TIME:20221215T150000
DTSTAMP;VALUE=DATE-TIME:20260422T034218Z
UID:ecfdd7a7b3974f2f884454f1fdf971e9@www.recife.pe.leg.br
CREATED;VALUE=DATE-TIME:20221107T121743Z
DESCRIPTION:Decreto Legislativo N° 1.059/2022\, de autoria da Vereadora D
 ani Portela.
LAST-MODIFIED;VALUE=DATE-TIME:20221107T125238Z
LOCATION:Plenário da Câmara Municipal do Recife
URL:https://www.recife.pe.leg.br/institucional/eventos/reuniao-solene-de-e
 ntrega-do-titulo-de-cidadao-do-recife-ao-senhor-jose-renato-accioly
END:VEVENT
BEGIN:VTIMEZONE
TZID:America/Recife
X-LIC-LOCATION:America/Recife
BEGIN:STANDARD
DTSTART;VALUE=DATE-TIME:20020216T230000
TZNAME:-03
TZOFFSETFROM:-0200
TZOFFSETTO:-0300
END:STANDARD
END:VTIMEZONE
END:VCALENDAR
