BEGIN:VCALENDAR
VERSION:2.0
PRODID:-//Plone.org//NONSGML plone.app.event//EN
X-WR-TIMEZONE:America/Recife
BEGIN:VEVENT
SUMMARY:Reunião Solene de entrega dos Títulos de Cidadão do Recife ao A
 dvogado e Doutor Ricardo Sérvulo Fonseca da Costa e ao Juiz Heriberto Car
 valho Galvão (in memorian)
DTSTART;TZID=America/Recife;VALUE=DATE-TIME:20221130T180000
DTEND;TZID=America/Recife;VALUE=DATE-TIME:20221130T190000
DTSTAMP;VALUE=DATE-TIME:20260421T170428Z
UID:58009b7098fc46ec91222b781654202f@www.recife.pe.leg.br
CREATED;VALUE=DATE-TIME:20221122T130427Z
DESCRIPTION:Requerimentos N° 11.701/2022 e 11.719/2022\, ambos de autoria
  do Vereador Fabiano Ferraz.
LAST-MODIFIED;VALUE=DATE-TIME:20221122T151930Z
LOCATION:Plenário da Câmara Municipal do Recife
URL:https://www.recife.pe.leg.br/institucional/eventos/reuniao-solene-de-e
 ntrega-dos-titulos-de-cidadao-do-recife-ao-advogados-e-doutore-ricardo-ser
 vulo-fonseca-da-costa-e-ao-juiz-heriberto-carvalho-galvao
END:VEVENT
BEGIN:VTIMEZONE
TZID:America/Recife
X-LIC-LOCATION:America/Recife
BEGIN:STANDARD
DTSTART;VALUE=DATE-TIME:20020216T230000
TZNAME:-03
TZOFFSETFROM:-0200
TZOFFSETTO:-0300
END:STANDARD
END:VTIMEZONE
END:VCALENDAR
