BEGIN:VCALENDAR
VERSION:2.0
PRODID:-//Plone.org//NONSGML plone.app.event//EN
X-WR-TIMEZONE:America/Recife
BEGIN:VEVENT
SUMMARY:Reunião Solene em Homenagem a Arquidiocese de Olinda e Recife por
  sediar pela segunda vez em nossa cidade a realização do 18° Congresso 
 Eucarístico Nacional
DTSTART;TZID=America/Recife;VALUE=DATE-TIME:20221104T100000
DTEND;TZID=America/Recife;VALUE=DATE-TIME:20221104T110000
DTSTAMP;VALUE=DATE-TIME:20260422T131041Z
UID:1ab30b0f252547c9b05144d7c8a915a4@www.recife.pe.leg.br
CREATED;VALUE=DATE-TIME:20221013T143917Z
DESCRIPTION:Requerimento N° 5.107/2022\, de autoria do Vereador Felipe Al
 ecrim.
LAST-MODIFIED;VALUE=DATE-TIME:20221103T112021Z
LOCATION:Plenário da Câmara Municipal do Recife
URL:https://www.recife.pe.leg.br/institucional/eventos/reuniao-solene-em-h
 omenagem-a-arquidiocese-de-olinda-e-recife-por-sediar-pela-segunda-vez-em-
 nossa-cidade-a-realizacao-do-18deg-congresso-eucaristico-nacional
END:VEVENT
BEGIN:VTIMEZONE
TZID:America/Recife
X-LIC-LOCATION:America/Recife
BEGIN:STANDARD
DTSTART;VALUE=DATE-TIME:20020216T230000
TZNAME:-03
TZOFFSETFROM:-0200
TZOFFSETTO:-0300
END:STANDARD
END:VTIMEZONE
END:VCALENDAR
