BEGIN:VCALENDAR
VERSION:2.0
PRODID:-//Plone.org//NONSGML plone.app.event//EN
X-WR-TIMEZONE:America/Recife
BEGIN:VEVENT
SUMMARY:Reunião Solene em Homenagem ao Dia do Voluntariado
DTSTART;TZID=America/Recife;VALUE=DATE-TIME:20221207T150000
DTEND;TZID=America/Recife;VALUE=DATE-TIME:20221207T160000
DTSTAMP;VALUE=DATE-TIME:20260421T102858Z
UID:7781bcc3e70a496382ca8ce1753e5242@www.recife.pe.leg.br
CREATED;VALUE=DATE-TIME:20220912T124959Z
DESCRIPTION:Requerimento N° 10.206/2022\, de autoria do Vereador Tadeu Ca
 lheiros.
LAST-MODIFIED;VALUE=DATE-TIME:20221130T200620Z
LOCATION:Plenário da Câmara Municipal do Recife
URL:https://www.recife.pe.leg.br/institucional/eventos/reuniao-solene-em-h
 omenagem-a-rede-feminina-estadual-de-combate-ao-cancer-de-pernambuco-nucle
 o-de-apoio-a-crianca-com-cancer-nacc-recife-grupo-de-ajuda-a-crianca-caren
 te-com-cancer-samaritanos-e-peregrinos-pelo-dia-internacional-do-voluntari
 ado
END:VEVENT
BEGIN:VTIMEZONE
TZID:America/Recife
X-LIC-LOCATION:America/Recife
BEGIN:STANDARD
DTSTART;VALUE=DATE-TIME:20020216T230000
TZNAME:-03
TZOFFSETFROM:-0200
TZOFFSETTO:-0300
END:STANDARD
END:VTIMEZONE
END:VCALENDAR
