BEGIN:VCALENDAR
VERSION:2.0
PRODID:-//Plone.org//NONSGML plone.app.event//EN
X-WR-TIMEZONE:America/Recife
BEGIN:VEVENT
SUMMARY:Reunião Solene em Homenagem ao Portal PE News
DTSTART;TZID=America/Recife;VALUE=DATE-TIME:20221212T170000
DTEND;TZID=America/Recife;VALUE=DATE-TIME:20221212T180000
DTSTAMP;VALUE=DATE-TIME:20260422T154743Z
UID:1f0528522d2346bca734a39f9c80b734@www.recife.pe.leg.br
CREATED;VALUE=DATE-TIME:20221019T122327Z
DESCRIPTION:Requerimento N° 10.938/2022\, de autoria do Vereador Almir Fe
 rnando.
LAST-MODIFIED;VALUE=DATE-TIME:20221212T145003Z
LOCATION:Plenário da Câmara Municipal do Recife
URL:https://www.recife.pe.leg.br/institucional/eventos/reuniao-solene-em-h
 omenagem-ao-blog-pe-news
END:VEVENT
BEGIN:VTIMEZONE
TZID:America/Recife
X-LIC-LOCATION:America/Recife
BEGIN:STANDARD
DTSTART;VALUE=DATE-TIME:20020216T230000
TZNAME:-03
TZOFFSETFROM:-0200
TZOFFSETTO:-0300
END:STANDARD
END:VTIMEZONE
END:VCALENDAR
