BEGIN:VCALENDAR
VERSION:2.0
PRODID:-//Plone.org//NONSGML plone.app.event//EN
X-WR-TIMEZONE:America/Recife
BEGIN:VEVENT
SUMMARY:Reunião Solene em Homenagem ao Doador de Sangue
DTSTART;TZID=America/Recife;VALUE=DATE-TIME:20221129T170000
DTEND;TZID=America/Recife;VALUE=DATE-TIME:20221129T180000
DTSTAMP;VALUE=DATE-TIME:20260422T154617Z
UID:b8a31670776e4e408e3f0763689a0051@www.recife.pe.leg.br
CREATED;VALUE=DATE-TIME:20221018T120402Z
DESCRIPTION:Requerimento N° 10.993/2022\, de autoria do Vereador Almir Fe
 rnando.
LAST-MODIFIED;VALUE=DATE-TIME:20221018T120414Z
URL:https://www.recife.pe.leg.br/institucional/eventos/reuniao-solene-em-h
 omenagem-ao-doador-de-sangue
END:VEVENT
BEGIN:VTIMEZONE
TZID:America/Recife
X-LIC-LOCATION:America/Recife
BEGIN:STANDARD
DTSTART;VALUE=DATE-TIME:20020216T230000
TZNAME:-03
TZOFFSETFROM:-0200
TZOFFSETTO:-0300
END:STANDARD
END:VTIMEZONE
END:VCALENDAR
