BEGIN:VCALENDAR
VERSION:2.0
PRODID:-//Plone.org//NONSGML plone.app.event//EN
X-WR-TIMEZONE:America/Recife
BEGIN:VEVENT
SUMMARY:Reunião Solene em Homenagem aos 50 anos de Fundação da Rede Glo
 bo Nordeste
DTSTART;TZID=America/Recife;VALUE=DATE-TIME:20221215T103000
DTEND;TZID=America/Recife;VALUE=DATE-TIME:20221215T113000
DTSTAMP;VALUE=DATE-TIME:20260422T130859Z
UID:b5f5acf5fffc4dd49301b657e9008258@www.recife.pe.leg.br
CREATED;VALUE=DATE-TIME:20221013T144705Z
DESCRIPTION:Requerimento N° 10.764/2022\, de autoria do Vereador Marco Au
 rélio Filho.\nMemorando N° 67/2022.
LAST-MODIFIED;VALUE=DATE-TIME:20221107T130446Z
LOCATION:Plenário da Câmara Municipal do Recife
URL:https://www.recife.pe.leg.br/institucional/eventos/reuniao-solene-em-h
 omenagem-aos-50-anos-de-fundacao-da-rede-globo-nordeste-1
END:VEVENT
BEGIN:VTIMEZONE
TZID:America/Recife
X-LIC-LOCATION:America/Recife
BEGIN:STANDARD
DTSTART;VALUE=DATE-TIME:20020216T230000
TZNAME:-03
TZOFFSETFROM:-0200
TZOFFSETTO:-0300
END:STANDARD
END:VTIMEZONE
END:VCALENDAR
