BEGIN:VCALENDAR
VERSION:2.0
PRODID:-//Plone.org//NONSGML plone.app.event//EN
X-WR-TIMEZONE:America/Recife
BEGIN:VEVENT
SUMMARY:Reunião Solene em Homenagem aos 60 anos da Troça Carnavalesca Ce
 roula de Olinda\, que ao longo destes anos levou alegria para os carnavais
  de Pernambuco
DTSTART;TZID=America/Recife;VALUE=DATE-TIME:20221123T100000
DTEND;TZID=America/Recife;VALUE=DATE-TIME:20221123T110000
DTSTAMP;VALUE=DATE-TIME:20260422T105225Z
UID:f988035a2d2c43fea045e6d6c2f846b7@www.recife.pe.leg.br
CREATED;VALUE=DATE-TIME:20221028T114934Z
DESCRIPTION:Requerimento N° 11.285/2022\, de autoria do Vereador Rinaldo 
 Júnior.
LAST-MODIFIED;VALUE=DATE-TIME:20221028T115006Z
LOCATION:Plenário da Câmara Municipal do Recife
URL:https://www.recife.pe.leg.br/institucional/eventos/reuniao-solene-em-h
 omenagem-aos-60-anos-da-troca-carnavalesca-ceroula-de-olinda-que-ao-longo-
 destes-anos-levou-alegria-para-os-carnavais-de-pernambuco
END:VEVENT
BEGIN:VTIMEZONE
TZID:America/Recife
X-LIC-LOCATION:America/Recife
BEGIN:STANDARD
DTSTART;VALUE=DATE-TIME:20020216T230000
TZNAME:-03
TZOFFSETFROM:-0200
TZOFFSETTO:-0300
END:STANDARD
END:VTIMEZONE
END:VCALENDAR
