BEGIN:VCALENDAR
VERSION:2.0
PRODID:-//Plone.org//NONSGML plone.app.event//EN
X-WR-TIMEZONE:America/Recife
BEGIN:VEVENT
SUMMARY:Reunião Solene em Homenagem  aos Agentes Comunitários de Saúde 
 e aos Agentes  de Combate às  Endemias de Pernambuco.
DTSTART;TZID=America/Recife;VALUE=DATE-TIME:20221027T160000
DTEND;TZID=America/Recife;VALUE=DATE-TIME:20221027T170000
DTSTAMP;VALUE=DATE-TIME:20260422T074534Z
UID:4b064160188940b9a34d0ab76dfba593@www.recife.pe.leg.br
CREATED;VALUE=DATE-TIME:20220929T141129Z
DESCRIPTION:Requerimento Nr.  10691/2022\, de autoria do Vereador Luiz Eus
 táquio.
LAST-MODIFIED;VALUE=DATE-TIME:20220929T141240Z
LOCATION:Plenário da Câmara do Recife
URL:https://www.recife.pe.leg.br/institucional/eventos/reuniao-solene-em-h
 omenagem-aos-agentes-comunitarios-de-saude-e-aos-agentes-de-combate-as-end
 emias-de-pernambuco
END:VEVENT
BEGIN:VTIMEZONE
TZID:America/Recife
X-LIC-LOCATION:America/Recife
BEGIN:STANDARD
DTSTART;VALUE=DATE-TIME:20020216T230000
TZNAME:-03
TZOFFSETFROM:-0200
TZOFFSETTO:-0300
END:STANDARD
END:VTIMEZONE
END:VCALENDAR
