BEGIN:VCALENDAR
VERSION:2.0
PRODID:-//Plone.org//NONSGML plone.app.event//EN
X-WR-TIMEZONE:America/Recife
BEGIN:VEVENT
SUMMARY:Reunião Solene em Homenagem aos Comunicadores Gospel
DTSTART;TZID=America/Recife;VALUE=DATE-TIME:20220929T160000
DTEND;TZID=America/Recife;VALUE=DATE-TIME:20220929T170000
DTSTAMP;VALUE=DATE-TIME:20260421T153437Z
UID:d0e198e6bec34acc901a70ab9b214e7f@www.recife.pe.leg.br
CREATED;VALUE=DATE-TIME:20220913T153646Z
DESCRIPTION:Requerimento Nr. 10378/2022\, de autoria do Vereador Almir Fer
 nando.
LAST-MODIFIED;VALUE=DATE-TIME:20220913T153955Z
LOCATION:Plenário da Câmara do Recife
URL:https://www.recife.pe.leg.br/institucional/eventos/reuniao-solene-em-h
 omenagem-aos-comunicadores-gospel
END:VEVENT
BEGIN:VTIMEZONE
TZID:America/Recife
X-LIC-LOCATION:America/Recife
BEGIN:STANDARD
DTSTART;VALUE=DATE-TIME:20020216T230000
TZNAME:-03
TZOFFSETFROM:-0200
TZOFFSETTO:-0300
END:STANDARD
END:VTIMEZONE
END:VCALENDAR
