BEGIN:VCALENDAR
VERSION:2.0
PRODID:-//Plone.org//NONSGML plone.app.event//EN
X-WR-TIMEZONE:America/Recife
BEGIN:VEVENT
SUMMARY:Reunião Solene em Homenagem aos Porteiros do Recife\, profissão 
 tão importante para a nossa cidade
DTSTART;TZID=America/Recife;VALUE=DATE-TIME:20260611T100000
DTEND;TZID=America/Recife;VALUE=DATE-TIME:20260611T110000
DTSTAMP;VALUE=DATE-TIME:20260421T090412Z
UID:14c446d6b0964a0da5dd1fabb1052e06@www.recife.pe.leg.br
CREATED;VALUE=DATE-TIME:20260413T152503Z
DESCRIPTION:Requerimento N° 1.457/2026 de autoria do Vereador Rinaldo Jú
 nior.
LAST-MODIFIED;VALUE=DATE-TIME:20260413T152535Z
LOCATION:Plenário da Câmara Municipal do Recife
URL:https://www.recife.pe.leg.br/institucional/eventos/reuniao-solene-em-h
 omenagem-aos-porteiros-do-recife-profissao-tao-importante-para-a-nossa-cid
 ade
END:VEVENT
BEGIN:VTIMEZONE
TZID:America/Recife
X-LIC-LOCATION:America/Recife
BEGIN:STANDARD
DTSTART;VALUE=DATE-TIME:20020216T230000
TZNAME:-03
TZOFFSETFROM:-0200
TZOFFSETTO:-0300
END:STANDARD
END:VTIMEZONE
END:VCALENDAR
