BEGIN:VCALENDAR
VERSION:2.0
PRODID:-//Plone.org//NONSGML plone.app.event//EN
X-WR-TIMEZONE:America/Recife
BEGIN:VEVENT
SUMMARY:Reunião Solene em homenagem às mulheres influentes no meio digit
 al do município do Recife
DTSTART;TZID=America/Recife;VALUE=DATE-TIME:20260318T150000
DTEND;TZID=America/Recife;VALUE=DATE-TIME:20260318T160000
DTSTAMP;VALUE=DATE-TIME:20260421T122254Z
UID:7da85ca972c94272a99ef5d636c3e77a@www.recife.pe.leg.br
CREATED;VALUE=DATE-TIME:20260224T152046Z
DESCRIPTION:Requerimento N° 716/2026 de autoria do Vereador Tadeu Calheir
 os.
LAST-MODIFIED;VALUE=DATE-TIME:20260224T152132Z
LOCATION:Plenário da Câmara Municipal do Recife
URL:https://www.recife.pe.leg.br/institucional/eventos/reuniao-solene-em-h
 omenagem-as-mulheres-influentes-no-meio-digital-do-municipio-do-recife
END:VEVENT
BEGIN:VTIMEZONE
TZID:America/Recife
X-LIC-LOCATION:America/Recife
BEGIN:STANDARD
DTSTART;VALUE=DATE-TIME:20020216T230000
TZNAME:-03
TZOFFSETFROM:-0200
TZOFFSETTO:-0300
END:STANDARD
END:VTIMEZONE
END:VCALENDAR
