BEGIN:VCALENDAR
VERSION:2.0
PRODID:-//Plone.org//NONSGML plone.app.event//EN
X-WR-TIMEZONE:America/Recife
BEGIN:VEVENT
SUMMARY:Reunião Solene para a entrega do Título de Cidadã  do Recife à
   Sra. Luiza Helena Trajano Inácio  Rodrigues
DTSTART;TZID=America/Recife;VALUE=DATE-TIME:20220920T140000
DTEND;TZID=America/Recife;VALUE=DATE-TIME:20220920T150000
DTSTAMP;VALUE=DATE-TIME:20260423T233517Z
UID:a50f4b441a7a4c00ae82f6ca1399afb1@www.recife.pe.leg.br
CREATED;VALUE=DATE-TIME:20220905T123300Z
DESCRIPTION:Requerimento N° 10.194/2022\, de autoria do Vereador Romerinh
 o Jatobá.\nDecreto Legislativo N° 915/2019\, de autoria da então Veread
 ora Goretti Queiroz.
LAST-MODIFIED;VALUE=DATE-TIME:20220919T142630Z
LOCATION:Plenário da Câmara Municipal do Recife
URL:https://www.recife.pe.leg.br/institucional/eventos/reuniao-solene-para
 -a-entrega-do-titulo-de-cidada-do-recife-a-sra-luiza-helena-trajano-inacio
 -rodrigues
END:VEVENT
BEGIN:VTIMEZONE
TZID:America/Recife
X-LIC-LOCATION:America/Recife
BEGIN:STANDARD
DTSTART;VALUE=DATE-TIME:20020216T230000
TZNAME:-03
TZOFFSETFROM:-0200
TZOFFSETTO:-0300
END:STANDARD
END:VTIMEZONE
END:VCALENDAR
